BEGIN:VCALENDAR
VERSION:2.0
PRODID:-//Medborgerlig Samling Uppsala - ECPv6.15.20//NONSGML v1.0//EN
CALSCALE:GREGORIAN
METHOD:PUBLISH
X-WR-CALNAME:Medborgerlig Samling Uppsala
X-ORIGINAL-URL:https://meduppsala.se
X-WR-CALDESC:Händelser för Medborgerlig Samling Uppsala
REFRESH-INTERVAL;VALUE=DURATION:PT1H
X-Robots-Tag:noindex
X-PUBLISHED-TTL:PT1H
BEGIN:VTIMEZONE
TZID:UTC
BEGIN:STANDARD
TZOFFSETFROM:+0000
TZOFFSETTO:+0000
TZNAME:UTC
DTSTART:20230101T000000
END:STANDARD
END:VTIMEZONE
BEGIN:VEVENT
DTSTART;TZID=UTC:20260409T180000
DTEND;TZID=UTC:20260409T220000
DTSTAMP:20260425T171747
CREATED:20260330T125729Z
LAST-MODIFIED:20260330T125729Z
UID:1738-1775757600-1775772000@meduppsala.se
SUMMARY:MED-pub Uppsala
DESCRIPTION:Välkomna till MED-pub i Uppsala! Ät en bit mat\, ta något att dricka och prata politik. Alla är välkomna\, såväl medlemmar som övriga intresserade.
URL:https://meduppsala.se/event/med-pub-uppsala-63/
LOCATION:Taco Bar\, Stationsgatan 12-16\, Uppsala\, 753 25\, Sverige
CATEGORIES:MED-pub
END:VEVENT
BEGIN:VEVENT
DTSTART;TZID=UTC:20260412T163000
DTEND;TZID=UTC:20260412T163000
DTSTAMP:20260425T171747
CREATED:20260320T072850Z
LAST-MODIFIED:20260413T070958Z
UID:1677-1776011400-1776011400@meduppsala.se
SUMMARY:Flygbladsutdelning Uppsala
DESCRIPTION:MED Uppsala distrikt delar ut flygblad i brevlådor i Vilan\, Bergsbrunna och Nåntuna backe lördagen den 28 mars. Samlingsplats: ICA Sävja kl. 15.00. Kontakt: uppsala@med.se.
URL:https://meduppsala.se/event/flygbladsutdelning-uppsala-17/
LOCATION:ICA Supermarket\, Sävja\, Nämdemansvägen 1\, Uppsala\, 75752\, Sverige
CATEGORIES:Flygbladsutdelning
END:VEVENT
BEGIN:VEVENT
DTSTART;TZID=UTC:20260318T180000
DTEND;TZID=UTC:20260318T220000
DTSTAMP:20260425T171747
CREATED:20251215T101424Z
LAST-MODIFIED:20251215T101424Z
UID:1645-1773856800-1773871200@meduppsala.se
SUMMARY:MED-pub Uppsala
DESCRIPTION:Välkomna till MED-pub i Uppsala! Ät en bit mat\, ta något att dricka och prata politik. Alla är välkomna\, såväl medlemmar som övriga intresserade.
URL:https://meduppsala.se/event/med-pub-uppsala-62/
LOCATION:Taco Bar\, Stationsgatan 12-16\, Uppsala\, 753 25\, Sverige
CATEGORIES:MED-pub
END:VEVENT
BEGIN:VEVENT
DTSTART;TZID=UTC:20260217T180000
DTEND;TZID=UTC:20260217T220000
DTSTAMP:20260425T171747
CREATED:20251215T101315Z
LAST-MODIFIED:20251215T101315Z
UID:1643-1771351200-1771365600@meduppsala.se
SUMMARY:MED-pub Uppsala
DESCRIPTION:Välkomna till MED-pub i Uppsala! Ät en bit mat\, ta något att dricka och prata politik. Alla är välkomna\, såväl medlemmar som övriga intresserade.
URL:https://meduppsala.se/event/med-pub-uppsala-61/
LOCATION:Taco Bar\, Stationsgatan 12-16\, Uppsala\, 753 25\, Sverige
CATEGORIES:MED-pub
END:VEVENT
BEGIN:VEVENT
DTSTART;TZID=UTC:20260121T180000
DTEND;TZID=UTC:20260121T220000
DTSTAMP:20260425T171747
CREATED:20251215T101156Z
LAST-MODIFIED:20251215T101156Z
UID:1641-1769018400-1769032800@meduppsala.se
SUMMARY:MED-pub Uppsala
DESCRIPTION:Välkomna till MED-pub i Uppsala! Ät en bit mat\, ta något att dricka och prata politik. Alla är välkomna\, såväl medlemmar som övriga intresserade.
URL:https://meduppsala.se/event/med-pub-uppsala-60/
LOCATION:Taco Bar\, Stationsgatan 12-16\, Uppsala\, 753 25\, Sverige
CATEGORIES:MED-pub
END:VEVENT
BEGIN:VEVENT
DTSTART;TZID=UTC:20260105T140000
DTEND;TZID=UTC:20260105T160000
DTSTAMP:20260425T171747
CREATED:20251226T143418Z
LAST-MODIFIED:20251226T143418Z
UID:1648-1767621600-1767628800@meduppsala.se
SUMMARY:Flygbladsutdelning Uppsala
DESCRIPTION:MED Uppsala distrikt delar ut flygblad i brevlådor i Berthåga-Flogsta och Västra Flogsta måndagen den 5 januari. Samlingsplats: ICA Väst kl. 14.00. Kontakt: uppsala@med.se.
URL:https://meduppsala.se/event/flygbladsutdelning-uppsala-16/
LOCATION:ICA Väst\, Flogsta centrum\, Uppsala\, 752 72\, Sverige
CATEGORIES:Flygbladsutdelning
END:VEVENT
BEGIN:VEVENT
DTSTART;TZID=UTC:20251127T180000
DTEND;TZID=UTC:20251127T220000
DTSTAMP:20260425T171747
CREATED:20250825T064529Z
LAST-MODIFIED:20250825T064529Z
UID:1591-1764266400-1764280800@meduppsala.se
SUMMARY:MED-pub Uppsala
DESCRIPTION:Välkomna till MED-pub i Uppsala! Ät en bit mat\, ta något att dricka och prata politik. Alla är välkomna\, såväl medlemmar som övriga intresserade.
URL:https://meduppsala.se/event/med-pub-uppsala-59/
LOCATION:Taco Bar\, Stationsgatan 12-16\, Uppsala\, 753 25\, Sverige
CATEGORIES:MED-pub
END:VEVENT
BEGIN:VEVENT
DTSTART;TZID=UTC:20251014T180000
DTEND;TZID=UTC:20251014T220000
DTSTAMP:20260425T171747
CREATED:20250825T064427Z
LAST-MODIFIED:20250825T064427Z
UID:1589-1760464800-1760479200@meduppsala.se
SUMMARY:MED-pub Uppsala
DESCRIPTION:Välkomna till MED-pub i Uppsala! Ät en bit mat\, ta något att dricka och prata politik. Alla är välkomna\, såväl medlemmar som övriga intresserade.
URL:https://meduppsala.se/event/med-pub-uppsala-58/
LOCATION:Taco Bar\, Stationsgatan 12-16\, Uppsala\, 753 25\, Sverige
CATEGORIES:MED-pub
END:VEVENT
BEGIN:VEVENT
DTSTART;TZID=UTC:20250918T180000
DTEND;TZID=UTC:20250918T220000
DTSTAMP:20260425T171747
CREATED:20250525T201534Z
LAST-MODIFIED:20250525T201534Z
UID:1557-1758218400-1758232800@meduppsala.se
SUMMARY:MED-pub Uppsala
DESCRIPTION:Välkomna till MED-pub i Uppsala! Ät en bit mat\, ta något att dricka och prata politik. Alla är välkomna\, såväl medlemmar som övriga intresserade.
URL:https://meduppsala.se/event/med-pub-uppsala-57/
LOCATION:Taco Bar\, Stationsgatan 12-16\, Uppsala\, 753 25\, Sverige
CATEGORIES:MED-pub
END:VEVENT
BEGIN:VEVENT
DTSTART;TZID=UTC:20250820T180000
DTEND;TZID=UTC:20250820T220000
DTSTAMP:20260425T171747
CREATED:20250525T201447Z
LAST-MODIFIED:20250525T201447Z
UID:1555-1755712800-1755727200@meduppsala.se
SUMMARY:MED-pub Uppsala
DESCRIPTION:Välkomna till MED-pub i Uppsala! Ät en bit mat\, ta något att dricka och prata politik. Alla är välkomna\, såväl medlemmar som övriga intresserade.
URL:https://meduppsala.se/event/med-pub-uppsala-56/
LOCATION:Taco Bar\, Stationsgatan 12-16\, Uppsala\, 753 25\, Sverige
CATEGORIES:MED-pub
END:VEVENT
BEGIN:VEVENT
DTSTART;TZID=UTC:20250626T180000
DTEND;TZID=UTC:20250626T220000
DTSTAMP:20260425T171747
CREATED:20250525T201322Z
LAST-MODIFIED:20250525T201322Z
UID:1553-1750960800-1750975200@meduppsala.se
SUMMARY:MED-pub Uppsala
DESCRIPTION:Välkomna till MED-pub i Uppsala! Ät en bit mat\, ta något att dricka och prata politik. Alla är välkomna\, såväl medlemmar som övriga intresserade.
URL:https://meduppsala.se/event/med-pub-uppsala-55/
LOCATION:Taco Bar\, Stationsgatan 12-16\, Uppsala\, 753 25\, Sverige
CATEGORIES:MED-pub
END:VEVENT
BEGIN:VEVENT
DTSTART;TZID=UTC:20250522T180000
DTEND;TZID=UTC:20250522T223000
DTSTAMP:20260425T171747
CREATED:20250514T160027Z
LAST-MODIFIED:20250514T160027Z
UID:1550-1747936800-1747953000@meduppsala.se
SUMMARY:MED-pub Uppsala
DESCRIPTION:Välkomna till MED-pub i Uppsala! Ät en bit mat\, ta något att dricka och prata politik. Alla är välkomna\, såväl medlemmar som övriga intresserade.
URL:https://meduppsala.se/event/med-pub-uppsala-54/
LOCATION:Taco Bar\, Stationsgatan 12-16\, Uppsala\, 753 25\, Sverige
CATEGORIES:MED-pub
END:VEVENT
BEGIN:VEVENT
DTSTART;TZID=UTC:20250424T180000
DTEND;TZID=UTC:20250424T220000
DTSTAMP:20260425T171747
CREATED:20250303T110801Z
LAST-MODIFIED:20250303T110801Z
UID:1537-1745517600-1745532000@meduppsala.se
SUMMARY:MED-pub Uppsala
DESCRIPTION:Välkomna till MED-pub i Uppsala! Ät en bit mat\, ta något att dricka och prata politik. Alla är välkomna\, såväl medlemmar som övriga intresserade.
URL:https://meduppsala.se/event/med-pub-uppsala-53/
LOCATION:Taco Bar\, Stationsgatan 12-16\, Uppsala\, 753 25\, Sverige
CATEGORIES:MED-pub
END:VEVENT
BEGIN:VEVENT
DTSTART;TZID=UTC:20250323T170000
DTEND;TZID=UTC:20250323T200000
DTSTAMP:20260425T171747
CREATED:20250303T110554Z
LAST-MODIFIED:20250303T111250Z
UID:1534-1742749200-1742760000@meduppsala.se
SUMMARY:MED-pub Uppsala
DESCRIPTION:Välkomna till MED-pub i Uppsala direkt efter distriktsstämman! Ät en bit mat\, ta något att dricka och prata politik. Alla är välkomna\, såväl medlemmar som övriga intresserade.
URL:https://meduppsala.se/event/med-pub-uppsala-52/
LOCATION:Churchill Arms\, S:t olofsgatan 30B\, Uppsala\, 753 32\, Sverige
CATEGORIES:MED-pub
END:VEVENT
BEGIN:VEVENT
DTSTART;TZID=UTC:20250323T150000
DTEND;TZID=UTC:20250323T163000
DTSTAMP:20260425T171747
CREATED:20250301T082516Z
LAST-MODIFIED:20250301T082516Z
UID:1531-1742742000-1742747400@meduppsala.se
SUMMARY:Distriktsstämma 23 mars
DESCRIPTION:MED distrikt Uppsalas årsstämma äger rum söndagen den 23 mars kl. 15.00 på Övre Slotts – Event & Studios. Adress: Övre Slottsgatan 6\, Uppsala. \nAnmälan till sker per mejl till uppsala@med.se. Ange för- och efternamn samt kommun vid anmälan. Betald medlemsavgift är en förutsättning för att utöva sin rösträtt på stämman.
URL:https://meduppsala.se/event/distriktsstamma-23-mars/
LOCATION:Övre Slottsgatan 6\, Övre Slottsgatan 6\, Uppsala\, 75310\, Sverige
CATEGORIES:Årsstämma
END:VEVENT
BEGIN:VEVENT
DTSTART;TZID=UTC:20250313T180000
DTEND;TZID=UTC:20250313T220000
DTSTAMP:20260425T171747
CREATED:20241206T090951Z
LAST-MODIFIED:20241206T091049Z
UID:1494-1741888800-1741903200@meduppsala.se
SUMMARY:MED-pub Uppsala
DESCRIPTION:Välkomna till MED-pub i Uppsala! Ät en bit mat\, ta något att dricka och prata politik. Alla är välkomna\, såväl medlemmar som övriga intresserade.
URL:https://meduppsala.se/event/med-pub-uppsala-51/
LOCATION:Taco Bar\, Stationsgatan 12-16\, Uppsala\, 753 25\, Sverige
CATEGORIES:MED-pub
END:VEVENT
BEGIN:VEVENT
DTSTART;TZID=UTC:20250212T180000
DTEND;TZID=UTC:20250212T220000
DTSTAMP:20260425T171747
CREATED:20241206T090840Z
LAST-MODIFIED:20241206T090851Z
UID:1492-1739383200-1739397600@meduppsala.se
SUMMARY:MED-pub Uppsala
DESCRIPTION:Välkomna till MED-pub i Uppsala! Ät en bit mat\, ta något att dricka och prata politik. Alla är välkomna\, såväl medlemmar som övriga intresserade.
URL:https://meduppsala.se/event/med-pub-uppsala-50/
LOCATION:Taco Bar\, Stationsgatan 12-16\, Uppsala\, 753 25\, Sverige
CATEGORIES:MED-pub
END:VEVENT
BEGIN:VEVENT
DTSTART;TZID=UTC:20250114T180000
DTEND;TZID=UTC:20250114T220000
DTSTAMP:20260425T171747
CREATED:20241206T090737Z
LAST-MODIFIED:20241206T090737Z
UID:1490-1736877600-1736892000@meduppsala.se
SUMMARY:MED-pub Uppsala
DESCRIPTION:Välkomna till MED-pub i Uppsala! Ät en bit mat\, ta något att dricka och prata politik. Alla är välkomna\, såväl medlemmar som övriga intresserade.
URL:https://meduppsala.se/event/med-pub-uppsala-49/
LOCATION:Taco Bar\, Stationsgatan 12-16\, Uppsala\, 753 25\, Sverige
CATEGORIES:MED-pub
END:VEVENT
BEGIN:VEVENT
DTSTART;TZID=UTC:20241205T180000
DTEND;TZID=UTC:20241205T220000
DTSTAMP:20260425T171747
CREATED:20240913T081655Z
LAST-MODIFIED:20240913T081655Z
UID:1477-1733421600-1733436000@meduppsala.se
SUMMARY:MED-pub Uppsala
DESCRIPTION:Välkomna till MED-pub i Uppsala! Ät en bit mat\, ta något att dricka och prata politik. Alla är välkomna\, såväl medlemmar som övriga intresserade.
URL:https://meduppsala.se/event/med-pub-uppsala-48/
LOCATION:Taco Bar\, Stationsgatan 12-16\, Uppsala\, 753 25\, Sverige
CATEGORIES:MED-pub
END:VEVENT
BEGIN:VEVENT
DTSTART;TZID=UTC:20241106T180000
DTEND;TZID=UTC:20241106T220000
DTSTAMP:20260425T171747
CREATED:20240913T081446Z
LAST-MODIFIED:20240913T081446Z
UID:1474-1730916000-1730930400@meduppsala.se
SUMMARY:MED-pub Uppsala
DESCRIPTION:Välkomna till MED-pub i Uppsala! Ät en bit mat\, ta något att dricka och prata politik. Alla är välkomna\, såväl medlemmar som övriga intresserade.
URL:https://meduppsala.se/event/med-pub-uppsala-47/
LOCATION:Taco Bar\, Stationsgatan 12-16\, Uppsala\, 753 25\, Sverige
CATEGORIES:MED-pub
END:VEVENT
BEGIN:VEVENT
DTSTART;TZID=UTC:20241010T180000
DTEND;TZID=UTC:20241010T220000
DTSTAMP:20260425T171747
CREATED:20240913T081322Z
LAST-MODIFIED:20240913T081322Z
UID:1472-1728583200-1728597600@meduppsala.se
SUMMARY:MED-pub Uppsala
DESCRIPTION:Välkomna till MED-pub i Uppsala! Ät en bit mat\, ta något att dricka och prata politik. Alla är välkomna\, såväl medlemmar som övriga intresserade.
URL:https://meduppsala.se/event/med-pub-uppsala-46/
LOCATION:Taco Bar\, Stationsgatan 12-16\, Uppsala\, 753 25\, Sverige
CATEGORIES:MED-pub
END:VEVENT
BEGIN:VEVENT
DTSTART;TZID=UTC:20240911T180000
DTEND;TZID=UTC:20240911T220000
DTSTAMP:20260425T171747
CREATED:20240715T181245Z
LAST-MODIFIED:20240715T181245Z
UID:1453-1726077600-1726092000@meduppsala.se
SUMMARY:MED-pub Uppsala
DESCRIPTION:Välkomna till MED-pub i Uppsala! Ät en bit mat\, ta något att dricka och prata politik. Alla är välkomna\, såväl medlemmar som övriga intresserade.
URL:https://meduppsala.se/event/med-pub-uppsala-45/
LOCATION:Taco Bar\, Stationsgatan 12-16\, Uppsala\, 753 25\, Sverige
CATEGORIES:MED-pub
END:VEVENT
BEGIN:VEVENT
DTSTART;TZID=UTC:20240814T180000
DTEND;TZID=UTC:20240814T220000
DTSTAMP:20260425T171747
CREATED:20240715T181145Z
LAST-MODIFIED:20240715T181145Z
UID:1451-1723658400-1723672800@meduppsala.se
SUMMARY:MED-pub Uppsala
DESCRIPTION:Välkomna till MED-pub i Uppsala! Ät en bit mat\, ta något att dricka och prata politik. Alla är välkomna\, såväl medlemmar som övriga intresserade.
URL:https://meduppsala.se/event/med-pub-uppsala-44/
LOCATION:Taco Bar\, Stationsgatan 12-16\, Uppsala\, 753 25\, Sverige
CATEGORIES:MED-pub
END:VEVENT
BEGIN:VEVENT
DTSTART;TZID=UTC:20240626T180000
DTEND;TZID=UTC:20240626T220000
DTSTAMP:20260425T171747
CREATED:20240510T163023Z
LAST-MODIFIED:20240510T163023Z
UID:1431-1719424800-1719439200@meduppsala.se
SUMMARY:MED-pub Uppsala
DESCRIPTION:Välkomna till MED-pub i Uppsala! Ät en bit mat\, ta något att dricka och prata politik. Alla är välkomna\, såväl medlemmar som övriga intresserade.
URL:https://meduppsala.se/event/med-pub-uppsala-43/
LOCATION:Taco Bar\, Stationsgatan 12-16\, Uppsala\, 753 25\, Sverige
CATEGORIES:MED-pub
END:VEVENT
BEGIN:VEVENT
DTSTART;TZID=UTC:20240530T180000
DTEND;TZID=UTC:20240530T220000
DTSTAMP:20260425T171747
CREATED:20240219T154620Z
LAST-MODIFIED:20240219T154620Z
UID:1386-1717092000-1717106400@meduppsala.se
SUMMARY:MED-pub Uppsala
DESCRIPTION:Välkomna till MED-pub i Uppsala! Ät en bit mat\, ta något att dricka och prata politik. Alla är välkomna\, såväl medlemmar som övriga intresserade.
URL:https://meduppsala.se/event/med-pub-uppsala-42/
LOCATION:Taco Bar\, Stationsgatan 12-16\, Uppsala\, 753 25\, Sverige
CATEGORIES:MED-pub
END:VEVENT
BEGIN:VEVENT
DTSTART;TZID=UTC:20240508T180000
DTEND;TZID=UTC:20240508T220000
DTSTAMP:20260425T171747
CREATED:20240219T154529Z
LAST-MODIFIED:20240219T154529Z
UID:1384-1715191200-1715205600@meduppsala.se
SUMMARY:MED-pub Uppsala
DESCRIPTION:Välkomna till MED-pub i Uppsala! Ät en bit mat\, ta något att dricka och prata politik. Alla är välkomna\, såväl medlemmar som övriga intresserade.
URL:https://meduppsala.se/event/med-pub-uppsala-41/
LOCATION:Taco Bar\, Stationsgatan 12-16\, Uppsala\, 753 25\, Sverige
CATEGORIES:MED-pub
END:VEVENT
BEGIN:VEVENT
DTSTART;TZID=UTC:20240409T180000
DTEND;TZID=UTC:20240409T220000
DTSTAMP:20260425T171747
CREATED:20240115T125953Z
LAST-MODIFIED:20240115T125953Z
UID:1375-1712685600-1712700000@meduppsala.se
SUMMARY:MED-pub Uppsala
DESCRIPTION:Välkomna till MED-pub i Uppsala! Ät en bit mat\, ta något att dricka och prata politik. Alla är välkomna\, såväl medlemmar som övriga intresserade.
URL:https://meduppsala.se/event/med-pub-uppsala-40/
LOCATION:Taco Bar\, Stationsgatan 12-16\, Uppsala\, 753 25\, Sverige
CATEGORIES:MED-pub
END:VEVENT
BEGIN:VEVENT
DTSTART;TZID=UTC:20240317T140000
DTEND;TZID=UTC:20240317T163000
DTSTAMP:20260425T171747
CREATED:20240314T071242Z
LAST-MODIFIED:20240314T071458Z
UID:1392-1710684000-1710693000@meduppsala.se
SUMMARY:Distriktsstämma 17 mars
DESCRIPTION:MED distrikt Uppsalas årsstämma äger rum söndagen den 17 mars kl. 14.00 på Heimdal\, S:t Larsgatan 10\, Uppsala. \nStämman inleds med föredrag från Pia Rundkvist och Kai Rämö\, båda kandidater för Medborgerlig Samling i EU-valet. \nAnmälan till sker per mejl till uppsala@med.se. Ange för- och efternamn samt kommun vid anmälan. Betald medlemsavgift är en förutsättning för att utöva sin rösträtt på stämman.
URL:https://meduppsala.se/event/distriktsstamma-17-mars/
LOCATION:Föreningen Heimdal\, S:t Larsgatan 10\, Uppsala\, 753 12\, Sverige
CATEGORIES:Årsstämma
END:VEVENT
BEGIN:VEVENT
DTSTART;TZID=UTC:20240307T180000
DTEND;TZID=UTC:20240307T220000
DTSTAMP:20260425T171747
CREATED:20231201T120051Z
LAST-MODIFIED:20231201T120051Z
UID:1350-1709834400-1709848800@meduppsala.se
SUMMARY:MED-pub Uppsala
DESCRIPTION:Välkomna till MED-pub i Uppsala! Ät en bit mat\, ta något att dricka och prata politik. Alla är välkomna\, såväl medlemmar som övriga intresserade.
URL:https://meduppsala.se/event/med-pub-uppsala-39/
LOCATION:Taco Bar\, Stationsgatan 12-16\, Uppsala\, 753 25\, Sverige
CATEGORIES:MED-pub
END:VEVENT
BEGIN:VEVENT
DTSTART;TZID=UTC:20240213T180000
DTEND;TZID=UTC:20240213T220000
DTSTAMP:20260425T171747
CREATED:20231201T115956Z
LAST-MODIFIED:20231201T115956Z
UID:1348-1707847200-1707861600@meduppsala.se
SUMMARY:MED-pub Uppsala
DESCRIPTION:Välkomna till MED-pub i Uppsala! Ät en bit mat\, ta något att dricka och prata politik. Alla är välkomna\, såväl medlemmar som övriga intresserade.
URL:https://meduppsala.se/event/med-pub-uppsala-38/
LOCATION:Taco Bar\, Stationsgatan 12-16\, Uppsala\, 753 25\, Sverige
CATEGORIES:MED-pub
END:VEVENT
END:VCALENDAR