BEGIN:VCALENDAR
VERSION:2.0
PRODID:-//Medborgerlig Samling Uppsala - ECPv6.15.20//NONSGML v1.0//EN
CALSCALE:GREGORIAN
METHOD:PUBLISH
X-WR-CALNAME:Medborgerlig Samling Uppsala
X-ORIGINAL-URL:https://meduppsala.se
X-WR-CALDESC:Händelser för Medborgerlig Samling Uppsala
REFRESH-INTERVAL;VALUE=DURATION:PT1H
X-Robots-Tag:noindex
X-PUBLISHED-TTL:PT1H
BEGIN:VTIMEZONE
TZID:UTC
BEGIN:STANDARD
TZOFFSETFROM:+0000
TZOFFSETTO:+0000
TZNAME:UTC
DTSTART:20210101T000000
END:STANDARD
END:VTIMEZONE
BEGIN:VEVENT
DTSTART;TZID=UTC:20240508T180000
DTEND;TZID=UTC:20240508T220000
DTSTAMP:20260426T042309
CREATED:20240219T154529Z
LAST-MODIFIED:20240219T154529Z
UID:1384-1715191200-1715205600@meduppsala.se
SUMMARY:MED-pub Uppsala
DESCRIPTION:Välkomna till MED-pub i Uppsala! Ät en bit mat\, ta något att dricka och prata politik. Alla är välkomna\, såväl medlemmar som övriga intresserade.
URL:https://meduppsala.se/event/med-pub-uppsala-41/
LOCATION:Taco Bar\, Stationsgatan 12-16\, Uppsala\, 753 25\, Sverige
CATEGORIES:MED-pub
END:VEVENT
BEGIN:VEVENT
DTSTART;TZID=UTC:20240409T180000
DTEND;TZID=UTC:20240409T220000
DTSTAMP:20260426T042309
CREATED:20240115T125953Z
LAST-MODIFIED:20240115T125953Z
UID:1375-1712685600-1712700000@meduppsala.se
SUMMARY:MED-pub Uppsala
DESCRIPTION:Välkomna till MED-pub i Uppsala! Ät en bit mat\, ta något att dricka och prata politik. Alla är välkomna\, såväl medlemmar som övriga intresserade.
URL:https://meduppsala.se/event/med-pub-uppsala-40/
LOCATION:Taco Bar\, Stationsgatan 12-16\, Uppsala\, 753 25\, Sverige
CATEGORIES:MED-pub
END:VEVENT
BEGIN:VEVENT
DTSTART;TZID=UTC:20240317T140000
DTEND;TZID=UTC:20240317T163000
DTSTAMP:20260426T042309
CREATED:20240314T071242Z
LAST-MODIFIED:20240314T071458Z
UID:1392-1710684000-1710693000@meduppsala.se
SUMMARY:Distriktsstämma 17 mars
DESCRIPTION:MED distrikt Uppsalas årsstämma äger rum söndagen den 17 mars kl. 14.00 på Heimdal\, S:t Larsgatan 10\, Uppsala. \nStämman inleds med föredrag från Pia Rundkvist och Kai Rämö\, båda kandidater för Medborgerlig Samling i EU-valet. \nAnmälan till sker per mejl till uppsala@med.se. Ange för- och efternamn samt kommun vid anmälan. Betald medlemsavgift är en förutsättning för att utöva sin rösträtt på stämman.
URL:https://meduppsala.se/event/distriktsstamma-17-mars/
LOCATION:Föreningen Heimdal\, S:t Larsgatan 10\, Uppsala\, 753 12\, Sverige
CATEGORIES:Årsstämma
END:VEVENT
BEGIN:VEVENT
DTSTART;TZID=UTC:20240307T180000
DTEND;TZID=UTC:20240307T220000
DTSTAMP:20260426T042309
CREATED:20231201T120051Z
LAST-MODIFIED:20231201T120051Z
UID:1350-1709834400-1709848800@meduppsala.se
SUMMARY:MED-pub Uppsala
DESCRIPTION:Välkomna till MED-pub i Uppsala! Ät en bit mat\, ta något att dricka och prata politik. Alla är välkomna\, såväl medlemmar som övriga intresserade.
URL:https://meduppsala.se/event/med-pub-uppsala-39/
LOCATION:Taco Bar\, Stationsgatan 12-16\, Uppsala\, 753 25\, Sverige
CATEGORIES:MED-pub
END:VEVENT
BEGIN:VEVENT
DTSTART;TZID=UTC:20240213T180000
DTEND;TZID=UTC:20240213T220000
DTSTAMP:20260426T042309
CREATED:20231201T115956Z
LAST-MODIFIED:20231201T115956Z
UID:1348-1707847200-1707861600@meduppsala.se
SUMMARY:MED-pub Uppsala
DESCRIPTION:Välkomna till MED-pub i Uppsala! Ät en bit mat\, ta något att dricka och prata politik. Alla är välkomna\, såväl medlemmar som övriga intresserade.
URL:https://meduppsala.se/event/med-pub-uppsala-38/
LOCATION:Taco Bar\, Stationsgatan 12-16\, Uppsala\, 753 25\, Sverige
CATEGORIES:MED-pub
END:VEVENT
BEGIN:VEVENT
DTSTART;TZID=UTC:20240104T180000
DTEND;TZID=UTC:20240104T220000
DTSTAMP:20260426T042309
CREATED:20231201T115832Z
LAST-MODIFIED:20231201T115832Z
UID:1346-1704391200-1704405600@meduppsala.se
SUMMARY:MED-pub Uppsala
DESCRIPTION:Välkomna till MED-pub i Uppsala! Ät en bit mat\, ta något att dricka och prata politik. Alla är välkomna\, såväl medlemmar som övriga intresserade.
URL:https://meduppsala.se/event/med-pub-uppsala-37/
LOCATION:Taco Bar\, Stationsgatan 12-16\, Uppsala\, 753 25\, Sverige
CATEGORIES:MED-pub
END:VEVENT
BEGIN:VEVENT
DTSTART;TZID=UTC:20231212T180000
DTEND;TZID=UTC:20231212T220000
DTSTAMP:20260426T042309
CREATED:20230818T091848Z
LAST-MODIFIED:20230818T091848Z
UID:1310-1702404000-1702418400@meduppsala.se
SUMMARY:MED-pub Uppsala
DESCRIPTION:Välkomna till MED-pub i Uppsala! Ät en bit mat\, ta något att dricka och prata politik. Alla är välkomna\, såväl medlemmar som övriga intresserade.
URL:https://meduppsala.se/event/med-pub-uppsala-36/
LOCATION:Taco Bar\, Stationsgatan 12-16\, Uppsala\, 753 25\, Sverige
CATEGORIES:MED-pub
END:VEVENT
BEGIN:VEVENT
DTSTART;TZID=UTC:20231114T180000
DTEND;TZID=UTC:20231114T220000
DTSTAMP:20260426T042309
CREATED:20230818T091759Z
LAST-MODIFIED:20230818T091759Z
UID:1308-1699984800-1699999200@meduppsala.se
SUMMARY:MED-pub Uppsala
DESCRIPTION:Välkomna till MED-pub i Uppsala! Ät en bit mat\, ta något att dricka och prata politik. Alla är välkomna\, såväl medlemmar som övriga intresserade.
URL:https://meduppsala.se/event/med-pub-uppsala-35/
LOCATION:Taco Bar\, Stationsgatan 12-16\, Uppsala\, 753 25\, Sverige
CATEGORIES:MED-pub
END:VEVENT
BEGIN:VEVENT
DTSTART;TZID=UTC:20231101T173000
DTEND;TZID=UTC:20231101T210000
DTSTAMP:20260426T042309
CREATED:20231025T141948Z
LAST-MODIFIED:20231025T141948Z
UID:1343-1698859800-1698872400@meduppsala.se
SUMMARY:MED-pub Enköping
DESCRIPTION:Välkomna till MED-pub i Enköping! Ät en bit mat\, ta något att dricka och prata politik. Alla är välkomna\, såväl medlemmar som övriga intresserade.
URL:https://meduppsala.se/event/med-pub-enkoping-3/
LOCATION:The Players Inn\, Källgatan 15D\, Enköping\, 745 31\, Sverige
CATEGORIES:MED-pub
END:VEVENT
BEGIN:VEVENT
DTSTART;TZID=UTC:20231017T180000
DTEND;TZID=UTC:20231017T220000
DTSTAMP:20260426T042309
CREATED:20230818T091712Z
LAST-MODIFIED:20230818T091712Z
UID:1306-1697565600-1697580000@meduppsala.se
SUMMARY:MED-pub Uppsala
DESCRIPTION:Välkomna till MED-pub i Uppsala! Ät en bit mat\, ta något att dricka och prata politik. Alla är välkomna\, såväl medlemmar som övriga intresserade.
URL:https://meduppsala.se/event/med-pub-uppsala-34/
LOCATION:Taco Bar\, Stationsgatan 12-16\, Uppsala\, 753 25\, Sverige
CATEGORIES:MED-pub
END:VEVENT
BEGIN:VEVENT
DTSTART;TZID=UTC:20230914T180000
DTEND;TZID=UTC:20230914T220000
DTSTAMP:20260426T042309
CREATED:20230818T091550Z
LAST-MODIFIED:20230818T091550Z
UID:1304-1694714400-1694728800@meduppsala.se
SUMMARY:MED-pub Uppsala
DESCRIPTION:Välkomna till MED-pub i Uppsala! Ät en bit mat\, ta något att dricka och prata politik. Alla är välkomna\, såväl medlemmar som övriga intresserade.
URL:https://meduppsala.se/event/med-pub-uppsala-33/
LOCATION:Taco Bar\, Stationsgatan 12-16\, Uppsala\, 753 25\, Sverige
CATEGORIES:MED-pub
END:VEVENT
BEGIN:VEVENT
DTSTART;TZID=UTC:20230823T180000
DTEND;TZID=UTC:20230823T220000
DTSTAMP:20260426T042309
CREATED:20230627T112633Z
LAST-MODIFIED:20230627T112633Z
UID:1271-1692813600-1692828000@meduppsala.se
SUMMARY:MED-pub Uppsala
DESCRIPTION:Välkomna till MED-pub i Uppsala! Ät en bit mat\, ta något att dricka och prata politik. Alla är välkomna\, såväl medlemmar som övriga intresserade.
URL:https://meduppsala.se/event/med-pub-uppsala-32/
LOCATION:Taco Bar\, Stationsgatan 12-16\, Uppsala\, 753 25\, Sverige
CATEGORIES:MED-pub
END:VEVENT
BEGIN:VEVENT
DTSTART;TZID=UTC:20230726T180000
DTEND;TZID=UTC:20230726T220000
DTSTAMP:20260426T042309
CREATED:20230621T085637Z
LAST-MODIFIED:20230621T085637Z
UID:1268-1690394400-1690408800@meduppsala.se
SUMMARY:MED-pub Uppsala
DESCRIPTION:Välkomna till MED-pub i Uppsala! Ät en bit mat\, ta något att dricka och prata politik. Alla är välkomna\, såväl medlemmar som övriga intresserade.
URL:https://meduppsala.se/event/med-pub-uppsala-31/
LOCATION:Taco Bar\, Stationsgatan 12-16\, Uppsala\, 753 25\, Sverige
CATEGORIES:MED-pub
END:VEVENT
BEGIN:VEVENT
DTSTART;TZID=UTC:20230613T180000
DTEND;TZID=UTC:20230613T220000
DTSTAMP:20260426T042309
CREATED:20230405T092721Z
LAST-MODIFIED:20230405T092721Z
UID:1236-1686679200-1686693600@meduppsala.se
SUMMARY:MED-pub Uppsala
DESCRIPTION:Välkomna till MED-pub i Uppsala! Ät en bit mat\, ta något att dricka och prata politik. Alla är välkomna\, såväl medlemmar som övriga intresserade.
URL:https://meduppsala.se/event/med-pub-uppsala-30/
LOCATION:Taco Bar\, Stationsgatan 12-16\, Uppsala\, 753 25\, Sverige
CATEGORIES:MED-pub
END:VEVENT
BEGIN:VEVENT
DTSTART;TZID=UTC:20230510T180000
DTEND;TZID=UTC:20230510T220000
DTSTAMP:20260426T042309
CREATED:20230405T092359Z
LAST-MODIFIED:20230405T092527Z
UID:1234-1683741600-1683756000@meduppsala.se
SUMMARY:MED-pub Uppsala
DESCRIPTION:Välkomna till MED-pub i Uppsala! Ät en bit mat\, ta något att dricka och prata politik. Alla är välkomna\, såväl medlemmar som övriga intresserade.
URL:https://meduppsala.se/event/med-pub-uppsala-29/
LOCATION:Taco Bar\, Stationsgatan 12-16\, Uppsala\, 753 25\, Sverige
CATEGORIES:MED-pub
END:VEVENT
BEGIN:VEVENT
DTSTART;TZID=UTC:20230413T180000
DTEND;TZID=UTC:20230413T220000
DTSTAMP:20260426T042309
CREATED:20230405T092159Z
LAST-MODIFIED:20230405T092442Z
UID:1232-1681408800-1681423200@meduppsala.se
SUMMARY:MED-pub Uppsala
DESCRIPTION:Välkomna till MED-pub i Uppsala! Ät en bit mat\, ta något att dricka och prata politik. Alla är välkomna\, såväl medlemmar som övriga intresserade.
URL:https://meduppsala.se/event/med-pub-uppsala-28/
LOCATION:Taco Bar\, Stationsgatan 12-16\, Uppsala\, 753 25\, Sverige
CATEGORIES:MED-pub
END:VEVENT
BEGIN:VEVENT
DTSTART;TZID=UTC:20230319T140000
DTEND;TZID=UTC:20230319T160000
DTSTAMP:20260426T042309
CREATED:20230120T105510Z
LAST-MODIFIED:20230120T122004Z
UID:1178-1679234400-1679241600@meduppsala.se
SUMMARY:Distriktsstämma
DESCRIPTION:MED distrikt Uppsalas årsstämma äger rum söndagen den 19 mars kl. 14.00 på Wallingatan 1 (in på gården). \nAnmälan till sker per mejl till uppsala@med.se. Ange för- och efternamn samt kommun vid anmälan. Betald medlemsavgift är en förutsättning för att utöva sin rösträtt på stämman.
URL:https://meduppsala.se/event/distriktsstamma/
LOCATION:Wallingatan 1\, Wallingatan 1\, Uppsala\, 752 24
CATEGORIES:Årsstämma
END:VEVENT
BEGIN:VEVENT
DTSTART;TZID=UTC:20230312T140000
DTEND;TZID=UTC:20230312T160000
DTSTAMP:20260426T042309
CREATED:20230309T075333Z
LAST-MODIFIED:20230309T075333Z
UID:1208-1678629600-1678636800@meduppsala.se
SUMMARY:MED-fika Uppsala
DESCRIPTION:MED Uppsala arrangerar fika söndagen den 12 mars kl. 14.00. Plats: Kafé Storken. Alla är välkomna\, såväl medlemmar som övriga intresserade.
URL:https://meduppsala.se/event/med-fika-uppsala-8/
LOCATION:Kafé Storken\, Stora torget 3\, Uppsala\, 753 20\, Sverige
CATEGORIES:MED-fika
END:VEVENT
BEGIN:VEVENT
DTSTART;TZID=UTC:20230308T183000
DTEND;TZID=UTC:20230308T220000
DTSTAMP:20260426T042309
CREATED:20221219T100933Z
LAST-MODIFIED:20221219T100933Z
UID:1149-1678300200-1678312800@meduppsala.se
SUMMARY:MED-pub Uppsala
DESCRIPTION:Välkomna till MED-pub i Uppsala! Ät en bit mat\, ta något att dricka och prata politik. Alla är välkomna\, såväl medlemmar som övriga intresserade.
URL:https://meduppsala.se/event/med-pub-uppsala-27/
LOCATION:Taco Bar\, Stationsgatan 12-16\, Uppsala\, 753 25\, Sverige
CATEGORIES:MED-pub
END:VEVENT
BEGIN:VEVENT
DTSTART;TZID=UTC:20230208T183000
DTEND;TZID=UTC:20230208T220000
DTSTAMP:20260426T042309
CREATED:20221219T100754Z
LAST-MODIFIED:20221219T100754Z
UID:1147-1675881000-1675893600@meduppsala.se
SUMMARY:MED-pub Uppsala
DESCRIPTION:Välkomna till MED-pub i Uppsala! Ät en bit mat\, ta något att dricka och prata politik. Alla är välkomna\, såväl medlemmar som övriga intresserade.
URL:https://meduppsala.se/event/med-pub-uppsala-26/
LOCATION:Taco Bar\, Stationsgatan 12-16\, Uppsala\, 753 25\, Sverige
CATEGORIES:MED-pub
END:VEVENT
BEGIN:VEVENT
DTSTART;TZID=UTC:20230111T180000
DTEND;TZID=UTC:20230111T220000
DTSTAMP:20260426T042309
CREATED:20221106T193332Z
LAST-MODIFIED:20221106T193332Z
UID:1133-1673460000-1673474400@meduppsala.se
SUMMARY:MED-pub Uppsala
DESCRIPTION:Välkomna till MED-pub i Uppsala! Ät en bit mat\, ta något att dricka och prata politik. Alla är välkomna\, såväl medlemmar som övriga intresserade.
URL:https://meduppsala.se/event/med-pub-uppsala-25/
LOCATION:Taco Bar\, Stationsgatan 12-16\, Uppsala\, 753 25\, Sverige
CATEGORIES:MED-pub
END:VEVENT
BEGIN:VEVENT
DTSTART;TZID=UTC:20221207T180000
DTEND;TZID=UTC:20221207T220000
DTSTAMP:20260426T042309
CREATED:20221003T111105Z
LAST-MODIFIED:20221003T111105Z
UID:1115-1670436000-1670450400@meduppsala.se
SUMMARY:MED-pub Uppsala
DESCRIPTION:Välkomna till MED-pub i Uppsala! Ät en bit mat\, ta något att dricka och prata politik. Alla är välkomna\, såväl medlemmar som övriga intresserade.
URL:https://meduppsala.se/event/med-pub-uppsala-24/
LOCATION:Taco Bar\, Stationsgatan 12-16\, Uppsala\, 753 25\, Sverige
CATEGORIES:MED-pub
END:VEVENT
BEGIN:VEVENT
DTSTART;TZID=UTC:20221109T180000
DTEND;TZID=UTC:20221109T220000
DTSTAMP:20260426T042309
CREATED:20221003T110847Z
LAST-MODIFIED:20221003T110847Z
UID:1113-1668016800-1668031200@meduppsala.se
SUMMARY:MED-pub Uppsala
DESCRIPTION:Välkomna till MED-pub i Uppsala! Ät en bit mat\, ta något att dricka och prata politik. Alla är välkomna\, såväl medlemmar som övriga intresserade.
URL:https://meduppsala.se/event/med-pub-uppsala-23/
LOCATION:Taco Bar\, Stationsgatan 12-16\, Uppsala\, 753 25\, Sverige
CATEGORIES:MED-pub
END:VEVENT
BEGIN:VEVENT
DTSTART;TZID=UTC:20221016T140000
DTEND;TZID=UTC:20221016T160000
DTSTAMP:20260426T042309
CREATED:20221003T112215Z
LAST-MODIFIED:20221003T112215Z
UID:1117-1665928800-1665936000@meduppsala.se
SUMMARY:MED-fika Uppsala
DESCRIPTION:MED Uppsala arrangerar fika söndagen den 16 oktober kl. 14.00. Plats: Kafé Storken. Alla är välkomna\, såväl medlemmar som övriga intresserade.
URL:https://meduppsala.se/event/med-fika-uppsala-7/
LOCATION:Kafé Storken\, Stora torget 3\, Uppsala\, 753 20\, Sverige
CATEGORIES:MED-fika
END:VEVENT
BEGIN:VEVENT
DTSTART;TZID=UTC:20221012T180000
DTEND;TZID=UTC:20221012T220000
DTSTAMP:20260426T042309
CREATED:20221003T110611Z
LAST-MODIFIED:20221003T110611Z
UID:1111-1665597600-1665612000@meduppsala.se
SUMMARY:MED-pub Uppsala
DESCRIPTION:Välkomna till MED-pub i Uppsala! Ät en bit mat\, ta något att dricka och prata politik. Alla är välkomna\, såväl medlemmar som övriga intresserade.
URL:https://meduppsala.se/event/med-pub-uppsala-22/
LOCATION:Taco Bar\, Stationsgatan 12-16\, Uppsala\, 753 25\, Sverige
CATEGORIES:MED-pub
END:VEVENT
BEGIN:VEVENT
DTSTART;TZID=UTC:20221002T140000
DTEND;TZID=UTC:20221002T160000
DTSTAMP:20260426T042309
CREATED:20220922T111927Z
LAST-MODIFIED:20220922T111927Z
UID:1108-1664719200-1664726400@meduppsala.se
SUMMARY:MED-fika Uppsala
DESCRIPTION:MED Uppsala arrangerar fika söndagen den 2 oktober kl. 14.00. Plats: Kafé Storken. Alla är välkomna\, såväl medlemmar som övriga intresserade.
URL:https://meduppsala.se/event/med-fika-uppsala-6/
LOCATION:Kafé Storken\, Stora torget 3\, Uppsala\, 753 20\, Sverige
CATEGORIES:MED-fika
END:VEVENT
BEGIN:VEVENT
DTSTART;TZID=UTC:20220922T180000
DTEND;TZID=UTC:20220922T220000
DTSTAMP:20260426T042309
CREATED:20220917T065845Z
LAST-MODIFIED:20220917T065845Z
UID:1105-1663869600-1663884000@meduppsala.se
SUMMARY:MED-pub Enköping
DESCRIPTION:Välkomna till MED-pub i Enköping! Ät en bit mat\, ta något att dricka och prata politik. Alla är välkomna\, såväl medlemmar som övriga intresserade.
URL:https://meduppsala.se/event/med-pub-enkoping-2/
LOCATION:The Players Inn\, Källgatan 15D\, Enköping\, 745 31\, Sverige
CATEGORIES:MED-pub
END:VEVENT
BEGIN:VEVENT
DTSTART;TZID=UTC:20220907T180000
DTEND;TZID=UTC:20220907T200000
DTSTAMP:20260426T042309
CREATED:20220617T072545Z
LAST-MODIFIED:20220905T094339Z
UID:964-1662573600-1662580800@meduppsala.se
SUMMARY:Flygbladsutdelning Uppsala
DESCRIPTION:MED Uppsala distrikt delar ut flygblad i brevlådor i Bergsbrunna\, Vilan\, Nåntuna och Sävja. Tid och plats: onsdagen den 7 september\, ICA Supermarket\, Sävja Nämndemansvägen 1\, Uppsala\, kl. 18.00.
URL:https://meduppsala.se/event/flygbladsutdelning-uppsala-15/
LOCATION:ICA Supermarket\, Sävja\, Nämdemansvägen 1\, Uppsala\, 75752\, Sverige
CATEGORIES:Flygbladsutdelning
ATTACH;FMTTYPE=image/jpeg:https://meduppsala.se/wp-content/uploads/2022/06/292884421_407107034775667_5680642007375425470_n.jpg
END:VEVENT
BEGIN:VEVENT
DTSTART;TZID=UTC:20220831T183000
DTEND;TZID=UTC:20220831T220000
DTSTAMP:20260426T042309
CREATED:20220614T144133Z
LAST-MODIFIED:20220823T085947Z
UID:935-1661970600-1661983200@meduppsala.se
SUMMARY:MED-pub Uppsala
DESCRIPTION:Välkomna till MED-pub i Uppsala! Ät en bit mat\, ta något att dricka och prata politik. Alla är välkomna\, såväl medlemmar som övriga intresserade.
URL:https://meduppsala.se/event/med-pub-uppsala-21/
LOCATION:Taco Bar\, Stationsgatan 12-16\, Uppsala\, 753 25\, Sverige
CATEGORIES:MED-pub
ATTACH;FMTTYPE=image/jpeg:https://meduppsala.se/wp-content/uploads/2022/06/294307391_412028764283494_828947333084702845_n.jpg
END:VEVENT
BEGIN:VEVENT
DTSTART;TZID=UTC:20220830T180000
DTEND;TZID=UTC:20220830T200000
DTSTAMP:20260426T042309
CREATED:20220617T072336Z
LAST-MODIFIED:20220827T184506Z
UID:962-1661882400-1661889600@meduppsala.se
SUMMARY:Flygbladsutdelning Uppsala
DESCRIPTION:MED Uppsala distrikt delar ut flygblad i brevlådor i Årsta. Tid och plats: tisdagen den 30 augusti\, Gräslöksgatan\, kl. 18.00.
URL:https://meduppsala.se/event/flygbladsutdelning-uppsala-14/
LOCATION:Gräslöksgatan\, Gräslöksgatan\, Uppsala\, 754 46\, Sverige
CATEGORIES:Flygbladsutdelning
ATTACH;FMTTYPE=image/jpeg:https://meduppsala.se/wp-content/uploads/2022/06/292884421_407107034775667_5680642007375425470_n.jpg
END:VEVENT
END:VCALENDAR